BEGIN:VCALENDAR
VERSION:2.0
PRODID:-//ChamberMaster//Event Calendar 2.0//EN
METHOD:PUBLISH
X-PUBLISHED-TTL:P3D
REFRESH-INTERVAL:P3D
CALSCALE:GREGORIAN
BEGIN:VEVENT
DTSTART:20170502T140000Z
DTEND:20170502T170000Z
X-MICROSOFT-CDO-ALLDAYEVENT:FALSE
SUMMARY:Connecting Minds- Brain Fitness Classes
DESCRIPTION:3-hour classes offered consecutively every Tuesday (exception of the 5th Tuesday) of each month. A weekly specialty class designed for the individual who is aware of their beginning signs of mild cognitive impairment. Each class provides emphasis on memory enhancement\, education\, brain focus\, fun and engaging activities\, physical exercise\, and creative projects. Classes promote peer to peer support in a structured learning environment.
X-ALT-DESC;FMTTYPE=text/html:3-hour classes offered consecutively every Tuesday (exception of the 5th Tuesday) of each month. A weekly specialty class designed for the individual who is aware of their beginning signs of mild cognitive impairment. Each class provides emphasis on memory enhancement\, education\, brain focus\, fun and engaging activities\, physical exercise\, and creative projects. Classes promote peer to peer support in a structured learning environment.
LOCATION:Inside Anchor Covenant Church 1229 Park Row\, Lake Geneva
UID:e.2059.668
SEQUENCE:3
DTSTAMP:20260423T060446Z
URL:https://business.elkhornchamber.com/events/details/connecting-minds-brain-fitness-classes-05-02-2017-668
END:VEVENT

END:VCALENDAR
