BEGIN:VCALENDAR
VERSION:2.0
PRODID:-//ChamberMaster//Event Calendar 2.0//EN
METHOD:PUBLISH
X-PUBLISHED-TTL:P3D
REFRESH-INTERVAL:P3D
CALSCALE:GREGORIAN
BEGIN:VEVENT
DTSTART:20160319T190000Z
DTEND:20160319T220000Z
X-MICROSOFT-CDO-ALLDAYEVENT:FALSE
SUMMARY:Complimentary Wine Tasting & Open House Delavan Lake Resort
DESCRIPTION:Delavan Lake Resort is opening their doors for a Complimentary Wine Tasting & Open House. Join us on Saturday\, March 19th from 2-5pm while enjoying Hors D'oeuvres by the Waterfront Pub and Eatery and Live music by The Sax Guy. There will be tours of the property being offered as well as featured wines from Boisset Family Estates and hourly raffles for Free 2 night stays (blackout dates may apply). We do ask that you kindly RSVP by March 9th by calling 262-728-2200 or by emailing frontdesk@lakedelavanresort.com.
X-ALT-DESC;FMTTYPE=text/html:Delavan Lake Resort is opening their doors for a Complimentary Wine Tasting &amp\; Open House. Join us on Saturday\, March 19th from 2-5pm while enjoying Hors D&#39\;oeuvres by the Waterfront Pub and Eatery and Live music by The Sax Guy. There will be tours of the property being offered as well as featured wines from Boisset Family Estates and hourly raffles for Free 2 night stays (blackout dates may apply). We do ask that you kindly RSVP by March 9th by calling 262-728-2200 or by emailing frontdesk@lakedelavanresort.com.
LOCATION:Delavan Lake Resort 1505 South Shore Dr. Delavan\, WI 53115
UID:e.2059.1982
SEQUENCE:3
DTSTAMP:20260424T064900Z
URL:https://business.elkhornchamber.com/events/details/complimentary-wine-tasting-open-house-delavan-lake-resort-03-19-2016-1982
END:VEVENT

END:VCALENDAR
