BEGIN:VCALENDAR
VERSION:2.0
PRODID:-//ChamberMaster//Event Calendar 2.0//EN
METHOD:PUBLISH
X-PUBLISHED-TTL:P3D
REFRESH-INTERVAL:P3D
CALSCALE:GREGORIAN
BEGIN:VEVENT
DTSTART:20150608T173000Z
DTEND:20150608T200000Z
X-MICROSOFT-CDO-ALLDAYEVENT:FALSE
SUMMARY:Community Youth Group Kick-Off
DESCRIPTION:A fun summer youth group invites the community to a FREE hotdog cookout as we kick-off summer! On June 8th at the Elkhorn Food Pantry near the First Congregational Church in town we will unveil the new mural being painted to raise awareness for the pantry\, as well as display additional summer projects. There will be open art projects available for all ages to complete and then these items can be donated to auction off in August to benefit the pantry!
X-ALT-DESC;FMTTYPE=text/html:A fun summer youth group invites the community to a FREE hotdog cookout as we kick-off summer! On June 8th at the Elkhorn Food Pantry near the First Congregational Church in town we will unveil the new mural being painted to raise awareness for the pantry\, as well as display additional summer projects. There will be open art projects available for all ages to complete and then these items can be donated to auction off in August to benefit the pantry!
LOCATION:Elkhorn Food Pantry (Elkhorn First Congregational Church of Christ)
UID:e.2059.1585
SEQUENCE:3
DTSTAMP:20260424T192448Z
URL:https://business.elkhornchamber.com/events/details/community-youth-group-kick-off-06-08-2015-1585
END:VEVENT

END:VCALENDAR
