BEGIN:VCALENDAR
VERSION:2.0
PRODID:-//ChamberMaster//Event Calendar 2.0//EN
METHOD:PUBLISH
X-PUBLISHED-TTL:P3D
REFRESH-INTERVAL:P3D
CALSCALE:GREGORIAN
BEGIN:VEVENT
DTSTART:20150815T180000Z
DTEND:20150815T210000Z
X-MICROSOFT-CDO-ALLDAYEVENT:FALSE
SUMMARY:Community Open House
DESCRIPTION:Come join us to celebrate the opening of Tender Reflections of Elkhorn! At our open house you will meet our staff\, tour the building\, and learn more about what we do! Light refreshments will be provided.
X-ALT-DESC;FMTTYPE=text/html:Come join us to celebrate the opening of Tender Reflections of Elkhorn! At our open house you will meet our staff\, tour the building\, and learn more about what we do! Light refreshments will be provided.
LOCATION:Tender Reflections of Elkhorn 1550 N. Country Club Parkway\, Elkhorn
UID:e.2059.1640
SEQUENCE:3
DTSTAMP:20260424T161024Z
URL:https://business.elkhornchamber.com/events/details/community-open-house-08-15-2015-1640
END:VEVENT

END:VCALENDAR
