BEGIN:VCALENDAR
VERSION:2.0
PRODID:-//ChamberMaster//Event Calendar 2.0//EN
METHOD:PUBLISH
X-PUBLISHED-TTL:P3D
REFRESH-INTERVAL:P3D
CALSCALE:GREGORIAN
BEGIN:VEVENT
DTSTART;VALUE=DATE:20170616
DTEND;VALUE=DATE:20170618
TRANSP:TRANSPARENT
X-MICROSOFT-CDO-ALLDAYEVENT:TRUE
SUMMARY:Community Days ~ All Things Elkhorn
DESCRIPTION:This 2nd Annual event features All Things Elkhorn! Kick-off the summer with friends and family over these two days. Friday\, June 16th the evening begins at 5:30 p.m. with a Lauderdale Aqua Skiers performance on Elkhorn Lake followed by live music from 7-10.\n\nSaturday\, June 17th will be filled with activities for all ages throughout the community. Starting at 8a.m. in Babe Mann Park\, the United Way of Walworth County 8th Annual RUN UNITED 5K Run/Walk and a 1 mile Fun Run for Kids. Come CHASE the LAS BOAT around Elkhorn Lake!\n\nThroughout the day\, community & youth groups\, games\, bounce houses and live demos will take place around Babe Mann Park. Food & entertainment will be on site for your enjoyment.\n\nThe Pride & Joy Car Show will also be taking place at Babe Mann Park on June 17 starting at 11. \n\nAt 5:30p.m. the Lauderdale Aqua Skiers perform which will bring park activities to its finale. Saturday night\, finish the day by enjoying A Secret Life of Pets\, our Movie on the Beach!\n\nEvent brought to you by: Elkhorn Area Chamber of Commerce & Tourism Center
X-ALT-DESC;FMTTYPE=text/html:<span class="_4n-j _3cht fsl" data-testid="event-permalink-details">This 2nd Annual event features All Things Elkhorn! Kick-off the summer with friends and family over these two days. Friday\, June 16th the evening begins at 5:30 p.m. with a Lauderdale Aqua Skiers performance on Elkhorn Lake followed by live music from 7-10.<br />\nSaturday\, June 17th will be filled with activities for all ages throughout the community. Starting at 8a.m. in Babe Mann Park\, the United Way of Walworth County 8th Annual RUN UNITED 5K Run/Walk and a 1 mile Fun Run for Kids. Come CHASE the LAS BOAT around Elkhorn Lake!<br />\nThroughout the day\, community &amp\; youth groups\, games\, bounce houses and live demos will take place around Babe Mann Park. Food &amp\; entertainment will be on site f<span class="text_exposed_show">or your enjoyment.<br />\nThe Pride &amp\; Joy Car Show will also be taking place at Babe Mann Park on June 17 starting at 11.&nbsp\;<br />\nAt 5:30p.m. the Lauderdale Aqua Skiers perform which will bring park activities to its finale. Saturday night\, finish the day by enjoying A Secret Life of Pets\, our Movie on the Beach!<br />\nEvent brought to you by: Elkhorn Area Chamber of Commerce &amp\; Tourism Center</span></span>
LOCATION:Babe Mann Park 951 Proctor Drive Elkhorn\, WI 53121
UID:e.2059.4705
SEQUENCE:3
DTSTAMP:20260423T041408Z
URL:https://business.elkhornchamber.com/events/details/community-days-all-things-elkhorn-4705
END:VEVENT

END:VCALENDAR
