BEGIN:VCALENDAR
VERSION:2.0
PRODID:-//ChamberMaster//Event Calendar 2.0//EN
METHOD:PUBLISH
X-PUBLISHED-TTL:P3D
REFRESH-INTERVAL:P3D
CALSCALE:GREGORIAN
BEGIN:VEVENT
DTSTART;VALUE=DATE:20160617
DTEND;VALUE=DATE:20160620
TRANSP:TRANSPARENT
X-MICROSOFT-CDO-ALLDAYEVENT:TRUE
SUMMARY:Community Days~ All Things Elkhorn
DESCRIPTION:This NEW event features all things Elkhorn!  Kick-off the summer with friends and family over these three days.  Friday Jun 17 the evening begins at 6:30 pm with an Lauderdale Aqua Skiers performance on Elkhorn Lake followed by a movie on the beach at Babe Mann Park.  \n\n\n\nSaturday\, June 18th will be filled with activities for all ages throughout the community.  Starting at 8:00 a.m. in Babe Mann Park\, the 7th Annual RUN UNITED 5 mile run/2 mile run/walk and 1 mile fun run for kids.  Throughtout the day\, community & youth groups\, games and live demos will take place on stage and in around Babe Mann Park.  Food & entertainment will be on site for your enjoyment.  At 5:30 p.m. the Aqua Skiers perform which will bring park activities to its finale.  Saturday night\, finish the day by supporting the Elkhorn Area Fire Department at their annual street dance in front of the fire house.  \n\n\n\nSpend your Father's Day\, June 19 at the 2nd Annual Pride & Joy Car Show from 9 a.m. - 2 p.m. located in and around the Uncle Hunk's Junk Building\; home of the Elkhorn Area Chamber of Commerce.  Live music and food available.
X-ALT-DESC;FMTTYPE=text/html:This NEW event features all things Elkhorn! &nbsp\;Kick-off the summer with friends and family over these three days. &nbsp\;Friday Jun 17 the evening begins at 6:30 pm with an Lauderdale Aqua Skiers performance on Elkhorn Lake followed by a movie on the beach at Babe Mann Park. &nbsp\;<br />\n<br />\nSaturday\, June 18th&nbsp\;will be filled with activities for all ages throughout the community. &nbsp\;Starting at 8:00 a.m. in Babe Mann Park\, the 7th Annual RUN UNITED 5 mile run/2 mile run/walk and 1 mile fun run for kids.&nbsp\; Throughtout the day\, community &amp\; youth groups\, games and live demos will take place on stage and in around Babe&nbsp\;Mann Park. &nbsp\;Food &amp\; entertainment will be on site for your enjoyment. &nbsp\;At 5:30 p.m. the Aqua Skiers perform which will bring park activities to its finale. &nbsp\;Saturday night\, finish the day by supporting the Elkhorn Area Fire Department at their annual street dance in front of the fire house. &nbsp\;<br />\n<br />\nSpend your Father&#39\;s Day\, June 19 at the 2nd Annual Pride &amp\; Joy Car Show from 9 a.m. - 2 p.m. located in and around the Uncle Hunk&#39\;s Junk Building\; home of the Elkhorn Area Chamber of Commerce. &nbsp\;Live music and food available.&nbsp\;<br />\n&nbsp\;
LOCATION:Babe Mann Park Elkhorn\, WI
UID:e.2059.2076
SEQUENCE:3
DTSTAMP:20260423T234401Z
URL:https://business.elkhornchamber.com/events/details/community-days-all-things-elkhorn-06-17-2016-2076
END:VEVENT

END:VCALENDAR
