BEGIN:VCALENDAR
VERSION:2.0
PRODID:-//ChamberMaster//Event Calendar 2.0//EN
METHOD:PUBLISH
X-PUBLISHED-TTL:P3D
REFRESH-INTERVAL:P3D
CALSCALE:GREGORIAN
BEGIN:VEVENT
DTSTART:20170623T160000Z
DTEND:20170623T190000Z
X-MICROSOFT-CDO-ALLDAYEVENT:FALSE
SUMMARY:Community Cookouts hosted by Town Bank - Delavan
DESCRIPTION:As the weather heats up\, we're ready to get the grill going! Throughout June and July\, we'll be hosting cookouts for our community. So\, come out\, grab some food and have a fun-filled day with your neighbors\, family and friends. We're definitely cooking up a good time!
X-ALT-DESC;FMTTYPE=text/html:As the weather heats up\, we&#39\;re ready to get the grill going! Throughout June and July\, we&#39\;ll be hosting cookouts for our community. So\, come out\, grab some food and have a fun-filled day with your neighbors\, family and friends. We&#39\;re definitely cooking up a good time!
LOCATION:Town Bank - Delavan 820 E. Geneva Street Delavan\, WI
UID:e.2059.5481
SEQUENCE:3
DTSTAMP:20260423T041828Z
URL:https://business.elkhornchamber.com/events/details/community-cookouts-hosted-by-town-bank-delavan-5481
END:VEVENT

END:VCALENDAR
