BEGIN:VCALENDAR
VERSION:2.0
PRODID:-//ChamberMaster//Event Calendar 2.0//EN
METHOD:PUBLISH
X-PUBLISHED-TTL:P3D
REFRESH-INTERVAL:P3D
CALSCALE:GREGORIAN
BEGIN:VEVENT
DTSTART:20151225T210000Z
DTEND:20151225T230000Z
X-MICROSOFT-CDO-ALLDAYEVENT:FALSE
SUMMARY:Community Christmas Dinner
DESCRIPTION:Free Community meal from 3 to 5pm with a goodwill offering. Sponsored by the Elkhorn Kiwanis Club.
X-ALT-DESC;FMTTYPE=text/html:Free Community meal from 3 to 5pm with a goodwill offering. Sponsored by the Elkhorn Kiwanis Club.
LOCATION:St. John's Lutheran Church 104 S. Broad St
UID:e.2059.1849
SEQUENCE:3
DTSTAMP:20260424T094210Z
URL:https://business.elkhornchamber.com/events/details/community-christmas-dinner-12-25-2015-1849
END:VEVENT

END:VCALENDAR
