BEGIN:VCALENDAR
VERSION:2.0
PRODID:-//ChamberMaster//Event Calendar 2.0//EN
METHOD:PUBLISH
X-PUBLISHED-TTL:P3D
REFRESH-INTERVAL:P3D
CALSCALE:GREGORIAN
BEGIN:VEVENT
DTSTART:20160319T220000Z
DTEND:20160319T220000Z
X-MICROSOFT-CDO-ALLDAYEVENT:FALSE
SUMMARY:Comedy Night at Evergreen Country Club
DESCRIPTION:Have you ever been to one of Evergreen's Comedy Nights? If not\, you are missing out! Saturday night they will be hosting two comedians Jimmy McHugh and Rob Brackenridge. There will be a cash bar starting at 5:00pm with appetizers at 5:30pm.  Bring your friends and take advantage of the Dinner Buffet at 6:30pm with the Show to follow. \n\nComplimentary Appetizers: Water Chestnuts wrapped in Bacon\, Glazed Meatballs\, Parmesan & Artichoke Crostini.\n\nSalads for the evening  will consist of Strawberry Spinster Salad with Pecans & Poppy seed Dressing.\n\nEntrees are Grilled Salmon glazed with honey mustard teriyaki sauce\, Chicken Cordon Bleu and Chef Carved Prime Rib with horseradish and cream sauce.\n\nSeasonal Chef's Vega table medley and Rosemary garlic baby red potatoes on the side.\n\nCheesecake & Coffee Service.\n\n\n\nTo Make Reservations call 262-723-5722
X-ALT-DESC;FMTTYPE=text/html:Have you ever been to one of Evergreen&#39\;s Comedy Nights? If not\, you are missing out! Saturday night they will be hosting two comedians Jimmy McHugh and Rob Brackenridge. There will be a cash bar starting at 5:00pm with appetizers at 5:30pm.&nbsp\;&nbsp\;Bring your friends and take advantage of the Dinner Buffet at 6:30pm with the Show to follow.&nbsp\;<br />\nComplimentary Appetizers: Water Chestnuts wrapped in Bacon\, Glazed Meatballs\, Parmesan &amp\; Artichoke Crostini.<br />\nSalads for the evening&nbsp\; will consist of Strawberry Spinster Salad with Pecans&nbsp\;&amp\; Poppy seed Dressing.<br />\nEntrees are Grilled Salmon glazed with honey mustard teriyaki sauce\, Chicken Cordon Bleu and Chef Carved Prime Rib with horseradish and cream sauce.<br />\nSeasonal Chef&#39\;s Vega table medley and Rosemary garlic baby red potatoes on the side.<br />\nCheesecake &amp\; Coffee Service.<br />\n<br />\nTo Make Reservations call 262-723-5722
LOCATION:Evergreen Country Club Hwy 67\, Elkhorn
UID:e.2059.1876
SEQUENCE:3
DTSTAMP:20260424T065153Z
URL:https://business.elkhornchamber.com/events/details/comedy-night-at-evergreen-country-club-03-19-2016-1876
END:VEVENT

END:VCALENDAR
