BEGIN:VCALENDAR
VERSION:2.0
PRODID:-//ChamberMaster//Event Calendar 2.0//EN
METHOD:PUBLISH
X-PUBLISHED-TTL:P3D
REFRESH-INTERVAL:P3D
CALSCALE:GREGORIAN
BEGIN:VEVENT
DTSTART:20170318T220000Z
DTEND:20170318T220000Z
X-MICROSOFT-CDO-ALLDAYEVENT:FALSE
SUMMARY:Comedy Club at Evergreen
DESCRIPTION:Grab a groub of friends and head out to Evergreen Country Club for a special night of food\, laughs and drinks!\n\nComedy Club featuring Opening Headliner : Tim Benker\n\nClosing Headliner : Billy Ray Bauer\n\nComplimentary passed appetizers begin at 5:30 with the Cash bar opening at 5:00pm. The dinner buffet is served at 6:30 which included the Evergreen house salad\, baked salmon with honey mustard teriyaki glaze\, Chicken cordon bleu with four cheese sauce\, chef carved Prime Rib with horseradish and cream sauce\, seasonal vegetable medley\, potato of choice and a dessert and coffee service.\n\nTickets are only $50.00 per person\, call to reserve your spot or table of 8!
X-ALT-DESC;FMTTYPE=text/html:Grab a groub of friends and head out to Evergreen Country Club for a special night of food\, laughs and drinks!<br />\nComedy Club featuring Opening Headliner : Tim Benker<br />\nClosing Headliner : Billy Ray Bauer<br />\nComplimentary passed appetizers begin at 5:30 with the Cash bar opening at 5:00pm. The dinner buffet is served at 6:30 which included the Evergreen house salad\, baked salmon with honey mustard teriyaki glaze\, Chicken cordon bleu with four cheese sauce\, chef carved Prime Rib with horseradish and cream sauce\, seasonal vegetable medley\, potato of choice and a dessert and coffee service.<br />\nTickets are only $50.00 per person\, call to reserve your spot or table of 8!<br />\n&nbsp\;
LOCATION:Evergreen Country Club N6246 US Hwy 12 Elkhorn\, Wi 53121
UID:e.2059.4633
SEQUENCE:3
DTSTAMP:20260423T093359Z
URL:https://business.elkhornchamber.com/events/details/comedy-club-at-evergreen-4633
END:VEVENT

END:VCALENDAR
