BEGIN:VCALENDAR
VERSION:2.0
PRODID:-//ChamberMaster//Event Calendar 2.0//EN
METHOD:PUBLISH
X-PUBLISHED-TTL:P3D
REFRESH-INTERVAL:P3D
CALSCALE:GREGORIAN
BEGIN:VEVENT
DTSTART:20170710T230000Z
DTEND:20170711T010000Z
X-MICROSOFT-CDO-ALLDAYEVENT:FALSE
SUMMARY:Color Me Summer Art Show
DESCRIPTION:Join Tender Reflections and the Elkhorn Arts Foundation for their "Color Me Summer" Art Show. \nWine & Cheese\, local artists on display\, open to the public!
X-ALT-DESC;FMTTYPE=text/html:<p style="">&nbsp\;</p>\n\n<p style=""><span style="font-weight: normal\;">Join Tender Reflections and the Elkhorn Arts Foundation for their &quot\;Color Me Summer&quot\; Art Show. </span></p>\nWine &amp\; Cheese\, local artists on display\, open to the public!<br />\n&nbsp\;
LOCATION:Tender Reflections
UID:e.2059.5489
SEQUENCE:3
DTSTAMP:20260423T011513Z
URL:https://business.elkhornchamber.com/events/details/color-me-summer-art-show-5489
END:VEVENT

END:VCALENDAR
