BEGIN:VCALENDAR
VERSION:2.0
PRODID:-//ChamberMaster//Event Calendar 2.0//EN
METHOD:PUBLISH
X-PUBLISHED-TTL:P3D
REFRESH-INTERVAL:P3D
CALSCALE:GREGORIAN
BEGIN:VEVENT
DTSTART:20151125T140000Z
DTEND:20151125T153000Z
X-MICROSOFT-CDO-ALLDAYEVENT:FALSE
SUMMARY:Coffee with a Cop
DESCRIPTION:Officers from Elkhorn Police Department and community members will come together in an informal\, neutral space to discuss community issues\, build relationships\, and drink coffee. Coffee with a Cop provides a unique opportunity for community members to ask questions and learn more about the department's work in the City of Elkhorn. The majority of contacts law enforcement has with the public are happen during emergencies\, or emotional situations. Those situations are not always the most effective times for relationship building with the community\, and some community members may feel that officer are unapproachable on the street. Coffee with a Cop breaks down barriers and allows for a relaxed\, one on one interaction. The program aims to advance the practice of community policing through improving relationships between police officers and community member one cup of coffee at a time.
X-ALT-DESC;FMTTYPE=text/html:Officers from Elkhorn Police Department and community members will come together in an informal\, neutral space to discuss community issues\, build relationships\, and drink coffee. Coffee with a Cop provides a unique opportunity for community members to ask questions and learn more about the department&#39\;s work in the City of Elkhorn. The majority of contacts law enforcement has with the public are happen during emergencies\, or emotional situations. Those situations are not always the most effective times for relationship building with the community\, and some community members may feel that officer are unapproachable on the street. Coffee with a Cop breaks down barriers and allows for a relaxed\, one on one interaction. The program aims to advance the practice of community policing through improving relationships between police officers and community member one cup of coffee at a time.
LOCATION:Perk Up 27 N. Wisconsin St. Elkhorn\, WI
UID:e.2059.1839
SEQUENCE:3
DTSTAMP:20260424T123854Z
URL:https://business.elkhornchamber.com/events/details/coffee-with-a-cop-11-25-2015-1839
END:VEVENT

END:VCALENDAR
