BEGIN:VCALENDAR
VERSION:2.0
PRODID:-//ChamberMaster//Event Calendar 2.0//EN
METHOD:PUBLISH
X-PUBLISHED-TTL:P3D
REFRESH-INTERVAL:P3D
CALSCALE:GREGORIAN
BEGIN:VEVENT
DTSTART:20151003T130000Z
DTEND:20151003T170000Z
X-MICROSOFT-CDO-ALLDAYEVENT:FALSE
SUMMARY:Clean Sweep Household Hazordous Waste
DESCRIPTION:Clean Sweep is dedicated to the collection & proper disposal of household hazardous waste products & pharmaceuticals. Services are available to Walworth County household residents free of charge and pre-registration is not required.
X-ALT-DESC;FMTTYPE=text/html:Clean Sweep is dedicated to the collection &amp\; proper disposal of household hazardous waste products &amp\; pharmaceuticals. Services are available to Walworth County household residents free of charge and pre-registration is not required.
LOCATION:Walworth County Public Works Department W4097 County Road NN Elkhorn
UID:e.2059.1725
SEQUENCE:3
DTSTAMP:20260424T124336Z
URL:https://business.elkhornchamber.com/events/details/clean-sweep-household-hazordous-waste-10-03-2015-1725
END:VEVENT

END:VCALENDAR
