BEGIN:VCALENDAR
VERSION:2.0
PRODID:-//ChamberMaster//Event Calendar 2.0//EN
METHOD:PUBLISH
X-PUBLISHED-TTL:P3D
REFRESH-INTERVAL:P3D
CALSCALE:GREGORIAN
BEGIN:VEVENT
DTSTART:20160507T160000Z
DTEND:20160507T210000Z
X-MICROSOFT-CDO-ALLDAYEVENT:FALSE
SUMMARY:Classic & Special Interest Car Show
DESCRIPTION:Elkhorn High School's 4th Annual Classic and Special Interest Car Show.\n\nPrizes for: Best Original\n\n                Best Modified\n\n                Best in Show\n\n\n\nFun for the Whole Family! You are able to Register at the Gate the day of\, they do require a $2 Donation per Show Car. This event is Free to spectators. Auto Club T-shirts and food will be available to purchase! Automotive activities for children and adults alike!\n\nTour the High School Auto Shop facilities!\n\nFor more information email Austin Thorson at THORAU@elkhorn.k12.wi.us
X-ALT-DESC;FMTTYPE=text/html:Elkhorn High School&#39\;s 4th Annual Classic and Special Interest Car Show.<br />\nPrizes for: Best Original<br />\n&nbsp\;&nbsp\;&nbsp\;&nbsp\;&nbsp\;&nbsp\;&nbsp\;&nbsp\;&nbsp\;&nbsp\;&nbsp\;&nbsp\;&nbsp\;&nbsp\;&nbsp\; Best Modified<br />\n&nbsp\;&nbsp\;&nbsp\;&nbsp\;&nbsp\;&nbsp\;&nbsp\;&nbsp\;&nbsp\;&nbsp\;&nbsp\;&nbsp\;&nbsp\;&nbsp\;&nbsp\; Best in Show<br />\n<br />\nFun for the Whole Family! You are able to Register at the Gate the day of\, they do require a $2 Donation per Show Car. This event is Free to spectators. Auto Club T-shirts and food will be available to purchase! Automotive activities for children and adults alike!<br />\nTour the High School Auto Shop facilities!<br />\nFor more information email Austin Thorson at THORAU@elkhorn.k12.wi.us<br />\n&nbsp\;
LOCATION:Elkhorn High School 482 E. Geneva St Elkhorn\, WI
UID:e.2059.3407
SEQUENCE:3
DTSTAMP:20260424T030537Z
URL:https://business.elkhornchamber.com/events/details/classic-special-interest-car-show-05-07-2016-3407
END:VEVENT

END:VCALENDAR
