BEGIN:VCALENDAR
VERSION:2.0
PRODID:-//ChamberMaster//Event Calendar 2.0//EN
METHOD:PUBLISH
X-PUBLISHED-TTL:P3D
REFRESH-INTERVAL:P3D
CALSCALE:GREGORIAN
BEGIN:VEVENT
DTSTART:20161119T000000Z
DTEND:20161119T020000Z
X-MICROSOFT-CDO-ALLDAYEVENT:FALSE
SUMMARY:Clara's Pajama Party
DESCRIPTION:Clara's Pajama Party for girls ages 7 - 10
X-ALT-DESC;FMTTYPE=text/html:<font face="arial" size="5">Clara&#39\;s Pajama Party for girls ages 7 - 10</font>
LOCATION:Toe to Toe Ballet School 5 W. Walworth Street Elkhorn\, Wi 53121
UID:e.2059.4559
SEQUENCE:3
DTSTAMP:20260423T153330Z
URL:https://business.elkhornchamber.com/events/details/clara-s-pajama-party-4559
END:VEVENT

END:VCALENDAR
