BEGIN:VCALENDAR
VERSION:2.0
PRODID:-//ChamberMaster//Event Calendar 2.0//EN
METHOD:PUBLISH
X-PUBLISHED-TTL:P3D
REFRESH-INTERVAL:P3D
CALSCALE:GREGORIAN
BEGIN:VEVENT
DTSTART:20150628T140000Z
DTEND:20150628T210000Z
X-MICROSOFT-CDO-ALLDAYEVENT:FALSE
SUMMARY:Civil War Encampment
DESCRIPTION:The Webster House Museum will be the site of a Civil War Encampment to celebrate the 150th anniversary of the end of the conflict. Sponsored by the Walworth County Historical Society\, the encampment will consist of Grand Army of the Republic reenactors on the lawn and a number of indoor Civil War displays in Heritage Hall across the street. The event will feature musket firing demonstrations\, kids scavenger hunt for prizes\, tours of the historic Civil War era Webster House\, tours of the Weterans Museum in Heritage Hall and a talk on the 1938 "The Last Great Reunion of the Blue and Gray" by reenactor Mike Wozny. Some additional activities include an old fashioned church service on Sunday at 9am and at 1pm a Ladies Historic Fashion Show. Event is Saturday noon-4pm and Sunday 9am-4pm. Donations will be accepted.
X-ALT-DESC;FMTTYPE=text/html:The Webster House Museum will be the site of a Civil War Encampment to celebrate the 150th anniversary of the end of the conflict. Sponsored by the Walworth County Historical Society\, the encampment will consist of Grand Army of the Republic reenactors on the lawn and a number of indoor Civil War displays in Heritage Hall across the street. The event will feature musket firing demonstrations\, kids scavenger hunt for prizes\, tours of the historic Civil War era Webster House\, tours of the Weterans Museum in Heritage Hall and a talk on the 1938 &quot\;The Last Great Reunion of the Blue and Gray&quot\; by reenactor Mike Wozny. Some additional activities include an old fashioned church service on Sunday at 9am and at 1pm a Ladies Historic Fashion Show. Event is Saturday noon-4pm and Sunday 9am-4pm. Donations will be accepted.
LOCATION:Webster House Museum 9 E. Rockwell St.\, Elkhorn
UID:e.2059.1599
SEQUENCE:3
DTSTAMP:20260424T192448Z
URL:https://business.elkhornchamber.com/events/details/civil-war-encampment-06-28-2015-1599
END:VEVENT

END:VCALENDAR
