BEGIN:VCALENDAR
VERSION:2.0
PRODID:-//ChamberMaster//Event Calendar 2.0//EN
METHOD:PUBLISH
X-PUBLISHED-TTL:P3D
REFRESH-INTERVAL:P3D
CALSCALE:GREGORIAN
BEGIN:VEVENT
DTSTART:20161031T220000Z
DTEND:20161101T000000Z
X-MICROSOFT-CDO-ALLDAYEVENT:FALSE
SUMMARY:City Wide Trick or Treating
DESCRIPTION:City wide trick or treating.
X-ALT-DESC;FMTTYPE=text/html:City wide trick or treating.
LOCATION:City of Elkhorn
UID:e.2059.136
SEQUENCE:3
DTSTAMP:20260423T185403Z
URL:https://business.elkhornchamber.com/events/details/city-wide-trick-or-treating-136
END:VEVENT

END:VCALENDAR
