BEGIN:VCALENDAR
VERSION:2.0
PRODID:-//ChamberMaster//Event Calendar 2.0//EN
METHOD:PUBLISH
X-PUBLISHED-TTL:P3D
REFRESH-INTERVAL:P3D
CALSCALE:GREGORIAN
BEGIN:VEVENT
DTSTART:20160412T200000Z
DTEND:20160413T010000Z
X-MICROSOFT-CDO-ALLDAYEVENT:FALSE
SUMMARY:Cirriculum Fair
DESCRIPTION:Whether you are looking for educational supplements\, or a complete curriculum\, one of the many vendors will be able to assist you with your needs. Come and join us at the Matheson Memorial Lirbriary for our 1st Curriculum Fair. We will have representatives from many educational companies that supply online & homeschool curriculum materials. Come and speak with the vendors\, views/sample curriculum or pick up one of the many catalogs.\n\nHosted by: Elkhorn OPtions Virtual Charter School Oppurtunities & Possibilities
X-ALT-DESC;FMTTYPE=text/html:Whether you are looking for educational supplements\, or a complete curriculum\, one of the many vendors will be able to assist you with your needs. Come and join us at the Matheson Memorial Lirbriary for our 1st Curriculum Fair. We will have representatives from many educational companies that supply online &amp\; homeschool curriculum materials. Come and speak with the vendors\, views/sample curriculum or pick up one of the many catalogs.<br />\nHosted by: Elkhorn OPtions Virtual Charter School Oppurtunities &amp\; Possibilities
LOCATION:Matheson Memorial Library 101 N Wisconsin St Elkhorn\, WI 53121
UID:e.2059.3415
SEQUENCE:3
DTSTAMP:20260424T044706Z
URL:https://business.elkhornchamber.com/events/details/cirriculum-fair-04-12-2016-3415
END:VEVENT

END:VCALENDAR
