BEGIN:VCALENDAR
VERSION:2.0
PRODID:-//ChamberMaster//Event Calendar 2.0//EN
METHOD:PUBLISH
X-PUBLISHED-TTL:P3D
REFRESH-INTERVAL:P3D
CALSCALE:GREGORIAN
BEGIN:VEVENT
DTSTART;VALUE=DATE:20150612
DTEND;VALUE=DATE:20150614
TRANSP:TRANSPARENT
X-MICROSOFT-CDO-ALLDAYEVENT:TRUE
SUMMARY:Church Rummage Sale
DESCRIPTION:The Unitarian Universalist Church of the Lakes will be having their annual rummage sale. Twenty percent of the proceeds will go to Lakeland Animal Shelter. Volunteers from the shelter will be bringing adoptable pets to the sale. We will also be selling hot dogs.
X-ALT-DESC;FMTTYPE=text/html:The Unitarian Universalist Church of the Lakes will be having their annual rummage sale. Twenty percent of the proceeds will go to Lakeland Animal Shelter. Volunteers from the shelter will be bringing adoptable pets to the sale. We will also be selling hot dogs.
LOCATION:319 N. Broad St.
UID:e.2059.1578
SEQUENCE:3
DTSTAMP:20260424T192701Z
URL:https://business.elkhornchamber.com/events/details/church-rummage-sale-06-12-2015-1578
END:VEVENT

END:VCALENDAR
