BEGIN:VCALENDAR
VERSION:2.0
PRODID:-//ChamberMaster//Event Calendar 2.0//EN
METHOD:PUBLISH
X-PUBLISHED-TTL:P3D
REFRESH-INTERVAL:P3D
CALSCALE:GREGORIAN
BEGIN:VEVENT
DTSTART:20141011T140000Z
DTEND:20141011T210000Z
X-MICROSOFT-CDO-ALLDAYEVENT:FALSE
SUMMARY:Church Craft Fair
DESCRIPTION:Come for a craft fair and explore the different vendors. Space still available for vendors interested in participating.
X-ALT-DESC;FMTTYPE=text/html:Come for a craft fair and explore the different vendors. Space still available for vendors interested in participating.
LOCATION:First United Methodist Church 111 Broad St.\, Elkhorn
UID:e.2059.505
SEQUENCE:3
DTSTAMP:20260425T115602Z
URL:https://business.elkhornchamber.com/events/details/church-craft-fair-10-11-2014-505
END:VEVENT

END:VCALENDAR
