BEGIN:VCALENDAR
VERSION:2.0
PRODID:-//ChamberMaster//Event Calendar 2.0//EN
METHOD:PUBLISH
X-PUBLISHED-TTL:P3D
REFRESH-INTERVAL:P3D
CALSCALE:GREGORIAN
BEGIN:VEVENT
DTSTART:20190303T210000Z
DTEND:20190304T050000Z
X-MICROSOFT-CDO-ALLDAYEVENT:FALSE
SUMMARY:Church Basement Ladies - Rise Up\, O Men
DESCRIPTION:The Church Basement Ladies are back at Young Auditorium in a brand new production! "Rise Up O Men" gives the gents a chance to shine in the latest installment of the Church Basement Ladies musical comedy series. As the church prepares for participation in the town's 1964 Centennial Celebration\, we get to see their coming and goings from the eyes of the menfolk\, who have their own problems to solve.
X-ALT-DESC;FMTTYPE=text/html:<span style="color: rgb(102\, 102\, 102)\; font-family: &quot\;PT Sans&quot\;\, sans-serif\; font-size: 16px\;">The Church Basement Ladies are back at Young Auditorium in a brand new production! &quot\;Rise Up O Men&quot\; gives the gents a chance to shine in the latest installment of the Church Basement Ladies musical comedy series. As the church prepares for participation in the town&#39\;s 1964 Centennial Celebration\, we get to see their coming and goings from the eyes of the menfolk\, who have their own problems to solve.</span>
LOCATION:Young Auditorium 930 W. Main Street Whitewater\, WI 53190
UID:e.2059.10194
SEQUENCE:3
DTSTAMP:20260421T155034Z
URL:https://business.elkhornchamber.com/events/details/church-basement-ladies-rise-up-o-men-10194
END:VEVENT

END:VCALENDAR
