BEGIN:VCALENDAR
VERSION:2.0
PRODID:-//ChamberMaster//Event Calendar 2.0//EN
METHOD:PUBLISH
X-PUBLISHED-TTL:P3D
REFRESH-INTERVAL:P3D
CALSCALE:GREGORIAN
BEGIN:VEVENT
DTSTART:20141123T223000Z
DTEND:20141124T013000Z
X-MICROSOFT-CDO-ALLDAYEVENT:FALSE
SUMMARY:Christmas in the Country
DESCRIPTION:United Way of Walworth County invites you to join us for the 20th annual Illumination Ceremony hosted by Grand Geneva. New this year\, get your portrait taken with family and/or friends in our holiday sleigh. All proceeds will benefit United Way of Walworth County. Please bring a new\, unwrapped toy or article of clothing for kids in need ranging from infants to 18-years-old.\n\n\n\nThis family\, friendly event\, involves interactive family activities and a sneak peak of this year?s holiday show while enjoying holiday cookies\, hot apple cider and live music. Roam the halls taking in all of the sights and sounds of Christmas and see more than two million lights illuminate for the first time this season followed by a Grand Fireworks display and a visit from Santa.
X-ALT-DESC;FMTTYPE=text/html:United Way of Walworth County invites you to join us for the 20th annual Illumination Ceremony hosted by Grand Geneva. New this year\, get your portrait taken with family and/or friends in our holiday sleigh. All proceeds will benefit United Way of Walworth County. Please bring a new\, unwrapped toy or article of clothing for kids in need ranging from infants to 18-years-old.<br />\n<br />\nThis family\, friendly event\, involves interactive family activities and a sneak peak of this year?s holiday show while enjoying holiday cookies\, hot apple cider and live music. Roam the halls taking in all of the sights and sounds of Christmas and see more than two million lights illuminate for the first time this season followed by a Grand Fireworks display and a visit from Santa.
LOCATION:Grand Geneva Resort and Spa Grand Ballroom
UID:e.2059.794
SEQUENCE:3
DTSTAMP:20260425T104502Z
URL:https://business.elkhornchamber.com/events/details/christmas-in-the-country-11-23-2014-794
END:VEVENT

END:VCALENDAR
