BEGIN:VCALENDAR
VERSION:2.0
PRODID:-//ChamberMaster//Event Calendar 2.0//EN
METHOD:PUBLISH
X-PUBLISHED-TTL:P3D
REFRESH-INTERVAL:P3D
CALSCALE:GREGORIAN
BEGIN:VEVENT
DTSTART:20160723T223000Z
DTEND:20160724T020000Z
X-MICROSOFT-CDO-ALLDAYEVENT:FALSE
SUMMARY:Christmas in July Party
DESCRIPTION:There will be a Christmas in July party sponsored by LGBT of Walworth County on July 23rd from 5:30-? It will be held at the UU Church of the Lakes in Elkhorn\, 319 N. Broad St. Everyone is welcome. The cookout will begin at 5:30 with lawn games and socializing to follow.
X-ALT-DESC;FMTTYPE=text/html:There will be a Christmas in July party sponsored by LGBT of Walworth County on July 23rd from 5:30-? It will be held at the UU Church of the Lakes in Elkhorn\, 319 N. Broad St. Everyone is welcome. The cookout will begin at 5:30 with lawn games and socializing to follow.
LOCATION:Unitarian Universalist Church of the Lakes 319 N. Broad St.\, Elkhorn
UID:e.2059.3507
SEQUENCE:3
DTSTAMP:20260423T234808Z
URL:https://business.elkhornchamber.com/events/details/christmas-in-july-party-07-23-2016-3507
END:VEVENT

END:VCALENDAR
