BEGIN:VCALENDAR
VERSION:2.0
PRODID:-//ChamberMaster//Event Calendar 2.0//EN
METHOD:PUBLISH
X-PUBLISHED-TTL:P3D
REFRESH-INTERVAL:P3D
CALSCALE:GREGORIAN
BEGIN:VEVENT
DTSTART;VALUE=DATE:20160728
DTEND;VALUE=DATE:20160729
TRANSP:TRANSPARENT
X-MICROSOFT-CDO-ALLDAYEVENT:TRUE
SUMMARY:Christmas in July at Sunset Pool
DESCRIPTION:Stop down to the Elkhorn Sunset Pool for their Themed Thursday. This week is Christmas in July!\n\nRudy's Back! Wear red & green! There will be a Santa vs. Grinch Cannonball competition.\n\nMovie on Saturday!
X-ALT-DESC;FMTTYPE=text/html:Stop down to the Elkhorn Sunset Pool for their Themed Thursday. This week is Christmas in July!<br />\nRudy&#39\;s Back! Wear red &amp\; green! There will be a Santa vs. Grinch Cannonball competition.<br />\nMovie on Saturday!
LOCATION:Sunset Pool Elkhorn Located on Devendorf St\, West Centrailia St and Park Avenue.
UID:e.2059.3511
SEQUENCE:3
DTSTAMP:20260423T220909Z
URL:https://business.elkhornchamber.com/events/details/christmas-in-july-at-sunset-pool-07-28-2016-3511
END:VEVENT

END:VCALENDAR
