BEGIN:VCALENDAR
VERSION:2.0
PRODID:-//ChamberMaster//Event Calendar 2.0//EN
METHOD:PUBLISH
X-PUBLISHED-TTL:P3D
REFRESH-INTERVAL:P3D
CALSCALE:GREGORIAN
BEGIN:VEVENT
DTSTART:20151212T220000Z
DTEND:20151213T020000Z
X-MICROSOFT-CDO-ALLDAYEVENT:FALSE
SUMMARY:Christmas Idea House
DESCRIPTION:Please come and enjoy a Christmas Idea House*\n\nJoin us for some Christmas Spirit and decorating ideas. Maybe even walk away with a decoration for your home! Donations will be accepted for the Tree House Child and Family Center.
X-ALT-DESC;FMTTYPE=text/html:Please come and enjoy a Christmas Idea House*<br />\nJoin us for some Christmas Spirit and decorating ideas. Maybe even walk away with a decoration for your home! Donations will be accepted for the Tree House Child and Family Center.
LOCATION:214 Park St Elkhorn\, WI 53121
UID:e.2059.1842
SEQUENCE:3
DTSTAMP:20260424T094410Z
URL:https://business.elkhornchamber.com/events/details/christmas-idea-house-12-12-2015-1842
END:VEVENT

END:VCALENDAR
