BEGIN:VCALENDAR
VERSION:2.0
PRODID:-//ChamberMaster//Event Calendar 2.0//EN
METHOD:PUBLISH
X-PUBLISHED-TTL:P3D
REFRESH-INTERVAL:P3D
CALSCALE:GREGORIAN
BEGIN:VEVENT
DTSTART;VALUE=DATE:20181225
DTEND;VALUE=DATE:20181226
TRANSP:TRANSPARENT
X-MICROSOFT-CDO-ALLDAYEVENT:TRUE
SUMMARY:Christmas Day Community Meal
DESCRIPTION:Join us for a free community Christmas Day meal. For more information call the Elkhorn Chamber at 262-723-5788.
X-ALT-DESC;FMTTYPE=text/html:Join us for a free community Christmas Day meal. For more information call the Elkhorn Chamber at 262-723-5788.&nbsp\;
LOCATION:Elkhorn Chamber of Commerce 203 E. Walworth St Elkhorn\, WI
UID:e.2059.8919
SEQUENCE:3
DTSTAMP:20260421T204236Z
URL:https://business.elkhornchamber.com/events/details/christmas-day-community-meal-8919
END:VEVENT

END:VCALENDAR
