BEGIN:VCALENDAR
VERSION:2.0
PRODID:-//ChamberMaster//Event Calendar 2.0//EN
METHOD:PUBLISH
X-PUBLISHED-TTL:P3D
REFRESH-INTERVAL:P3D
CALSCALE:GREGORIAN
BEGIN:VEVENT
DTSTART:20171225T170000Z
DTEND:20171225T183000Z
X-MICROSOFT-CDO-ALLDAYEVENT:FALSE
SUMMARY:Christmas Day Community Meal
DESCRIPTION:Join us for a free Community Meal and Good will offering. Our Chamber office is opening its doors on Christmas Day from 11:00am until 12:30pm. Reservations are required for this event so please call us at 262-723-5788. We look forward to being able to spend our time with the community and help spread the Holiday Joy throughout the Christmas Card Town~
X-ALT-DESC;FMTTYPE=text/html:Join us for a free Community Meal and Good will offering. Our Chamber office is opening its doors on Christmas Day from 11:00am until 12:30pm. Reservations are required for this event so please call us at 262-723-5788. We look forward to being able to spend our time with the community and help spread the Holiday Joy throughout the Christmas Card Town~
LOCATION:Elkhorn Chamber of Commerce Uncle Hunks of Junk Building 203 E. Walworth Street
UID:e.2059.7313
SEQUENCE:3
DTSTAMP:20260422T182737Z
URL:https://business.elkhornchamber.com/events/details/christmas-day-community-meal-7313
END:VEVENT

END:VCALENDAR
