BEGIN:VCALENDAR
VERSION:2.0
PRODID:-//ChamberMaster//Event Calendar 2.0//EN
METHOD:PUBLISH
X-PUBLISHED-TTL:P3D
REFRESH-INTERVAL:P3D
CALSCALE:GREGORIAN
BEGIN:VEVENT
DTSTART:20191225T170000Z
DTEND:20191225T193000Z
X-MICROSOFT-CDO-ALLDAYEVENT:FALSE
SUMMARY:Christmas Day Community Meal
DESCRIPTION:Join us for a free community Christmas Day meal. For more information call the Elkhorn Chamber at 262-723-5788.
X-ALT-DESC;FMTTYPE=text/html:Join us for a free community Christmas Day meal. For more information call the Elkhorn Chamber at 262-723-5788.&nbsp\;
LOCATION:Elkhorn Chamber of Commerce 203 E. Walworth St Elkhorn\, WI
UID:e.2059.10383
SEQUENCE:3
DTSTAMP:20260419T233704Z
URL:https://business.elkhornchamber.com/events/details/christmas-day-community-meal-10383
END:VEVENT

END:VCALENDAR
