BEGIN:VCALENDAR
VERSION:2.0
PRODID:-//ChamberMaster//Event Calendar 2.0//EN
METHOD:PUBLISH
X-PUBLISHED-TTL:P3D
REFRESH-INTERVAL:P3D
CALSCALE:GREGORIAN
BEGIN:VEVENT
DTSTART:20171220T200000Z
DTEND:20171220T210000Z
X-MICROSOFT-CDO-ALLDAYEVENT:FALSE
SUMMARY:Christmas Choir Concert
DESCRIPTION:The Elkhorn High Vocal Choir\, joined by the School Bell Choir and accompanied on piano by Choir Director Matthew Remus\, will be performing favorite Christmas songs in the Library Lobby.\n\nCome enjoy the sounds of the season!
X-ALT-DESC;FMTTYPE=text/html:<p style="text-align:center">The Elkhorn High Vocal Choir\, joined by the School Bell Choir and accompanied on piano by Choir Director Matthew Remus\, will be performing favorite Christmas songs in the Library Lobby.</p>\n\n<p style="text-align:center">Come enjoy the sounds of the season!</p>\n
LOCATION:Matheson Memorial Library
UID:e.2059.7295
SEQUENCE:3
DTSTAMP:20260422T174543Z
URL:https://business.elkhornchamber.com/events/details/christmas-choir-concert-7295
END:VEVENT

END:VCALENDAR
