BEGIN:VCALENDAR
VERSION:2.0
PRODID:-//ChamberMaster//Event Calendar 2.0//EN
METHOD:PUBLISH
X-PUBLISHED-TTL:P3D
REFRESH-INTERVAL:P3D
CALSCALE:GREGORIAN
BEGIN:VEVENT
DTSTART:20161203T200000Z
DTEND:20161204T000000Z
X-MICROSOFT-CDO-ALLDAYEVENT:FALSE
SUMMARY:Christmas Children's Market
DESCRIPTION:This "market" is for the elementary age children of Elkhorn tohave the joy of buying Christmas presents for their family at a resonable cost. Crafted items will be available for purchase ranging from $0.50 -$3.00. There will be a wrapping station so they can wrap their presents (with help) before going home! Enjoy some Christmas Spirit watching their excitement in being able to give to their own family!
X-ALT-DESC;FMTTYPE=text/html:This &quot\;market&quot\; is for the elementary age children of Elkhorn tohave the joy of buying Christmas presents for their family at a resonable cost. Crafted items will be available for purchase ranging from $0.50 -$3.00. There will be a wrapping station so they can wrap their presents (with help) before going home! Enjoy some Christmas Spirit watching their excitement in being able to give to their own family!
LOCATION:Friends on the Square 41 N. Wisconsin Street Elkhorn\, WI Upstairs
UID:e.2059.4613
SEQUENCE:3
DTSTAMP:20260423T135620Z
URL:https://business.elkhornchamber.com/events/details/christmas-children-s-market-4613
END:VEVENT

END:VCALENDAR
