BEGIN:VCALENDAR
VERSION:2.0
PRODID:-//ChamberMaster//Event Calendar 2.0//EN
METHOD:PUBLISH
X-PUBLISHED-TTL:P3D
REFRESH-INTERVAL:P3D
CALSCALE:GREGORIAN
BEGIN:VEVENT
DTSTART:20181201T003000Z
DTEND:20181201T023000Z
X-MICROSOFT-CDO-ALLDAYEVENT:FALSE
SUMMARY:Christmas Card Town Tree Lighting on the Square
DESCRIPTION:Experience small-town comfort and joy of the holiday season in the Christmas Card Town.  Join Advia Credit Union Friday\, November 30th at 6:30pm  as we kick off the holiday season with Elkhorn's Christmas Tree Lighting featuring the big man himself\, Santa Claus\, and his special helper! Following the tree lignting\, everyone is welcome to the Matheson Memorial Library for the Santa and Mrs. Claus Reception. Enjoy complementary hot chocolate\, cookies\, music and crafts while the kids wait to share their list with Santa. Don't forget to bring your cameras to capture this memorable moment! Discover Wisconsin will also be on hand to film segments for our up-coming episode to air in June 2019. Bring your smiling faces for a chance to be on TV!
X-ALT-DESC;FMTTYPE=text/html:<span style="font-size:12px\;"><span style="font-family:arial\;"><span style="language:en-US\;font-weight:normal\;font-style:normal\;">Experience small-town comfort and joy of the holiday season in the Christmas Card Town. </span><span style="color: rgb(102\, 102\, 102)\;">&nbsp\;Join Advia Credit Union&nbsp\;</span><strong style="margin: 0px\; padding: 0px\; border: 0px\; font-variant-numeric: inherit\; font-variant-east-asian: inherit\; font-stretch: inherit\; font-size: 12px\; line-height: inherit\; font-family: Arial\, sans-serif\; vertical-align: baseline\;">Friday\, November 30th at 6:30pm</strong><span style="color: rgb(102\, 102\, 102)\;">&nbsp\;</span>&nbsp\;as we k<span style="language:en-US\;font-weight:normal\;font-style:normal\;">ick off the holiday season with&nbsp\;</span><span style="language:en-US\;font-weight:bold\;font-style:normal\;">Elkhorn&rsquo\;s Christmas Tree Lighting</span><span style="language:en-US\;font-weight:normal\;font-style:normal\;">&nbsp\;featuring the big man himself\, Santa Claus\, and his special helper! Following the tree lignting\, everyone is welcome to the Matheson Memorial Library for the Santa and Mrs. Claus Reception. Enjoy </span>complementary <span style="language:en-US\;font-weight:normal\;font-style:normal\;">hot chocolate\, cookies\, music and crafts while the kids wait to share their list with Santa. Don&rsquo\;t forget to bring your cameras to capture this memorable moment! Discover Wisconsin will also be on hand to film segments for our up-coming episode to air in June 2019. Bring your smiling faces for a chance to be on TV!&nbsp\;</span></span></span><br />\n&nbsp\;
LOCATION:Downtown Square Elkhorn Matheson Memorial Library 100 N. Wisconsin Street Elkhorn\, WI 53121
UID:e.2059.8783
SEQUENCE:3
DTSTAMP:20260421T223946Z
URL:https://business.elkhornchamber.com/events/details/christmas-card-town-tree-lighting-on-the-square-8783
END:VEVENT

END:VCALENDAR
