BEGIN:VCALENDAR
VERSION:2.0
PRODID:-//ChamberMaster//Event Calendar 2.0//EN
METHOD:PUBLISH
X-PUBLISHED-TTL:P3D
REFRESH-INTERVAL:P3D
CALSCALE:GREGORIAN
BEGIN:VEVENT
DTSTART:20181018T203000Z
DTEND:20181018T203000Z
X-MICROSOFT-CDO-ALLDAYEVENT:FALSE
SUMMARY:Christian-Rauch Schule Orchestra Fall Tour
DESCRIPTION:Youth orchestra form the Christian-Rauch Schule (school) in Bad Arolsen\, Germany is currently on tour in the U.S. and will be making a stop in Elkhorn!
X-ALT-DESC;FMTTYPE=text/html:Youth orchestra form the Christian-Rauch Schule (school) in Bad Arolsen\, Germany is currently on tour in the U.S. and will be making a stop in Elkhorn!
LOCATION:Elkhorn Area High School Auditorium 482 E. Geneva Street Elkhorn\, WI
UID:e.2059.9531
SEQUENCE:3
DTSTAMP:20260422T001950Z
URL:https://business.elkhornchamber.com/events/details/christian-rauch-schule-orchestra-fall-tour-9531
END:VEVENT

END:VCALENDAR
