BEGIN:VCALENDAR
VERSION:2.0
PRODID:-//ChamberMaster//Event Calendar 2.0//EN
METHOD:PUBLISH
X-PUBLISHED-TTL:P3D
REFRESH-INTERVAL:P3D
CALSCALE:GREGORIAN
BEGIN:VEVENT
DTSTART:20170406T233000Z
DTEND:20170407T010000Z
X-MICROSOFT-CDO-ALLDAYEVENT:FALSE
SUMMARY:Choosing the Right Pet
DESCRIPTION:Have you ever thought about adopting a pet? Or maybe you're a longtime pet owner who is looking to add to your family?  Either way\, we have a wonderful program that'll help to set you on the right path!\n\nPlease join us on Thursday\, April 6th at 6:30pm asveterinarian Lorene Rockwell takes us through all the            considerations in choosing the right pet\, and what to look for when adopting. She'll also go over basic care and training of your new family member\, and ways you can bond and foster trust between you and your new pet. The program is free\, but registration is required. Please call us at (262) 723-2678 to register
X-ALT-DESC;FMTTYPE=text/html:<span style="font-family:georgia"><span style="font-size:10.0pt">Have you ever thought about adopting a pet? Or maybe you&rsquo\;re a longtime pet owner who is looking to add to your family?&nbsp\; Either way\, we have a wonderful program that&rsquo\;ll help to set you on the right path!</span></span><br />\n<span style="font-family:georgia"><span style="font-size:10.0pt">Please join us on&nbsp\;</span></span><strong><span style="font-family:georgia"><span style="font-size:10.0pt">Thursday\, April 6th at 6:30pm </span></span></strong><span style="font-family:georgia"><span style="font-size:10.0pt">asveterinarian Lorene Rockwell takes us through all the&nbsp\;&nbsp\;&nbsp\;&nbsp\;&nbsp\;&nbsp\;&nbsp\;&nbsp\;&nbsp\;&nbsp\;&nbsp\; considerations in choosing the right pet\, and what to look for when adopting. She&rsquo\;ll also go over basic care and training of your new family member\, and ways you can bond and foster trust between you and your new pet. The program is free\, but registration is required. Please call us at </span></span><strong><span style="font-family:georgia"><span style="font-size:10.0pt">(262) 723-2678 </span></span></strong><span style="font-family:georgia"><span style="font-size:10.0pt">to register</span></span>
LOCATION:Matheson Memorial Library
UID:e.2059.4707
SEQUENCE:3
DTSTAMP:20260423T074205Z
URL:https://business.elkhornchamber.com/events/details/choosing-the-right-pet-4707
END:VEVENT

END:VCALENDAR
