BEGIN:VCALENDAR
VERSION:2.0
PRODID:-//ChamberMaster//Event Calendar 2.0//EN
METHOD:PUBLISH
X-PUBLISHED-TTL:P3D
REFRESH-INTERVAL:P3D
CALSCALE:GREGORIAN
BEGIN:VEVENT
DTSTART;VALUE=DATE:20160623
DTEND;VALUE=DATE:20160624
TRANSP:TRANSPARENT
X-MICROSOFT-CDO-ALLDAYEVENT:TRUE
SUMMARY:Chip in Fore Kids- Save the Date
DESCRIPTION:Save the Date for the Walworth County Alliance for Children "Chip in Fore Kids\," golf outing. More information coming soon.
X-ALT-DESC;FMTTYPE=text/html:Save the Date for the Walworth County Alliance for Children &quot\;Chip in Fore Kids\,&quot\; golf outing. More information coming soon.
LOCATION:Evergreen Golf Course N6246 Highway 12 Elkhorn\, Wi
UID:e.2059.2007
SEQUENCE:3
DTSTAMP:20260423T234247Z
URL:https://business.elkhornchamber.com/events/details/chip-in-fore-kids-save-the-date-06-23-2016-2007
END:VEVENT

END:VCALENDAR
