BEGIN:VCALENDAR
VERSION:2.0
PRODID:-//ChamberMaster//Event Calendar 2.0//EN
METHOD:PUBLISH
X-PUBLISHED-TTL:P3D
REFRESH-INTERVAL:P3D
CALSCALE:GREGORIAN
BEGIN:VEVENT
DTSTART:20161126T220000Z
DTEND:20161126T220000Z
X-MICROSOFT-CDO-ALLDAYEVENT:FALSE
SUMMARY:Children's Holiday Musical Broadway Santa
DESCRIPTION:Lakeland Players presents a children's holiday musical Broadway Santa. Written by Janet Gardner & Andy Beck.\n\nTickets available at the Elkhorn Chamber of Commerce\, by calling the ticket manager at 262-812-3866 or online at www.lakeland-players.org\n\nNo exchanges or refunds.\n\nNo reserved Seating.
X-ALT-DESC;FMTTYPE=text/html:Lakeland Players presents a children&#39\;s holiday musical Broadway Santa. Written by Janet Gardner &amp\; Andy Beck.<br />\nTickets available at the Elkhorn Chamber of Commerce\, by calling the ticket manager at 262-812-3866 or online at www.lakeland-players.org<br />\nNo exchanges or refunds.<br />\nNo reserved Seating.
LOCATION:Walworth County Performing Arts Center 15 W. Walworth Street Elkhorn\, WI 53121
UID:e.2059.4574
SEQUENCE:3
DTSTAMP:20260423T154007Z
URL:https://business.elkhornchamber.com/events/details/children-s-holiday-musical-broadway-santa-4574
END:VEVENT

END:VCALENDAR
