BEGIN:VCALENDAR
VERSION:2.0
PRODID:-//ChamberMaster//Event Calendar 2.0//EN
METHOD:PUBLISH
X-PUBLISHED-TTL:P3D
REFRESH-INTERVAL:P3D
CALSCALE:GREGORIAN
BEGIN:VEVENT
DTSTART:20150912T140000Z
DTEND:20150912T170000Z
X-MICROSOFT-CDO-ALLDAYEVENT:FALSE
SUMMARY:Child ID Event - Touch-A-Truck
DESCRIPTION:Big Foot High School - Touch-A-Truck Event Fire Trucks\, Police Cars\, Farm Equipment\, etc. New York Life will be there doing FREE Child ID's with digital photo & fingerprints for parents to keep
X-ALT-DESC;FMTTYPE=text/html:Big Foot High School - Touch-A-Truck Event Fire Trucks\, Police Cars\, Farm Equipment\, etc. New York Life will be there doing FREE Child ID&#39\;s with digital photo &amp\; fingerprints for parents to keep
LOCATION:Big Foot High School Walworth\, WI
UID:e.2059.1682
SEQUENCE:3
DTSTAMP:20260424T141822Z
URL:https://business.elkhornchamber.com/events/details/child-id-event-touch-a-truck-09-12-2015-1682
END:VEVENT

END:VCALENDAR
