BEGIN:VCALENDAR
VERSION:2.0
PRODID:-//ChamberMaster//Event Calendar 2.0//EN
METHOD:PUBLISH
X-PUBLISHED-TTL:P3D
REFRESH-INTERVAL:P3D
CALSCALE:GREGORIAN
BEGIN:VEVENT
DTSTART:20190314T210000Z
DTEND:20190315T000000Z
X-MICROSOFT-CDO-ALLDAYEVENT:FALSE
SUMMARY:Charity Resource Fair
DESCRIPTION:Visit Charitable Organizations all in one place and learn how to give back locally.
X-ALT-DESC;FMTTYPE=text/html:Visit Charitable Organizations all in one place and learn how to give back locally.
LOCATION:Calvary Community Church in Williams Bay N2620 Harris Rd\, Lake Geneva\, WI 53147
UID:e.2059.10617
SEQUENCE:3
DTSTAMP:20260421T152731Z
URL:https://business.elkhornchamber.com/events/details/charity-resource-fair-10617
END:VEVENT

END:VCALENDAR
