BEGIN:VCALENDAR
VERSION:2.0
PRODID:-//ChamberMaster//Event Calendar 2.0//EN
METHOD:PUBLISH
X-PUBLISHED-TTL:P3D
REFRESH-INTERVAL:P3D
CALSCALE:GREGORIAN
BEGIN:VEVENT
DTSTART:20191201T010000Z
DTEND:20191201T030000Z
X-MICROSOFT-CDO-ALLDAYEVENT:FALSE
SUMMARY:Centennial Band Concert
DESCRIPTION:Centennial Band Concert at Elkhorn Area High School at 7:00 pm. More information to come.
X-ALT-DESC;FMTTYPE=text/html:Centennial Band Concert at Elkhorn Area High School at 7:00 pm. More information to come.&nbsp\;
LOCATION:Elkhorn Area High School
UID:e.2059.10821
SEQUENCE:3
DTSTAMP:20260420T053739Z
URL:https://business.elkhornchamber.com/events/details/centennial-band-concert-10821
END:VEVENT

END:VCALENDAR
