BEGIN:VCALENDAR
VERSION:2.0
PRODID:-//ChamberMaster//Event Calendar 2.0//EN
METHOD:PUBLISH
X-PUBLISHED-TTL:P3D
REFRESH-INTERVAL:P3D
CALSCALE:GREGORIAN
BEGIN:VEVENT
DTSTART:20190413T140000Z
DTEND:20190413T153000Z
X-MICROSOFT-CDO-ALLDAYEVENT:FALSE
SUMMARY:Celebrate Earth Day with a Trail Clean-up
DESCRIPTION:Walworth County Volunteer Services is partnering with Gateway Technical College\, Elkhorn Campus\, to kick off the Earth Day celebration with a clean-up event of the White River Bike Trail from 9-10:30AM.
X-ALT-DESC;FMTTYPE=text/html:Walworth County Volunteer Services is partnering with Gateway Technical College\, Elkhorn Campus\, to kick off the Earth Day celebration with a clean-up event of the White River Bike Trail from 9-10:30AM.
LOCATION:White River Bike Trail Hwy H trail head just south of Gateway Technical College\, Elkhorn Campus
UID:e.2059.10618
SEQUENCE:3
DTSTAMP:20260421T135130Z
URL:https://business.elkhornchamber.com/events/details/celebrate-earth-day-with-a-trail-clean-up-10618
END:VEVENT

END:VCALENDAR
