BEGIN:VCALENDAR
VERSION:2.0
PRODID:-//ChamberMaster//Event Calendar 2.0//EN
METHOD:PUBLISH
X-PUBLISHED-TTL:P3D
REFRESH-INTERVAL:P3D
CALSCALE:GREGORIAN
BEGIN:VEVENT
DTSTART:20190413T150000Z
DTEND:20190413T190000Z
X-MICROSOFT-CDO-ALLDAYEVENT:FALSE
SUMMARY:Celebrate Earth Day @ Gateway Technical College
DESCRIPTION:Earth Day April 13 @ Gateway Technical College from 10:00 am - 2:00 pm.\n\nFREE Admission!\n\nRecycling Center\, Live Entertainment\, Raffle & Door Prizes\, Child-Friendly  Activities\, Indoor Farmers market\, Workshops & Demonstrations\, Refreshments available for purchase.\n\nVisit WWW.gtc.edu/celebrate-earth-day
X-ALT-DESC;FMTTYPE=text/html:Earth Day April 13 @ Gateway Technical College from 10:00 am - 2:00 pm.<br />\nFREE Admission!<br />\nRecycling Center\, Live Entertainment\, Raffle &amp\; Door Prizes\, Child-Friendly&nbsp\; Activities\, Indoor Farmers market\, Workshops &amp\; Demonstrations\, Refreshments available for purchase.<br />\nVisit WWW.gtc.edu/celebrate-earth-day<br />\n&nbsp\;
LOCATION:Gateway Technical College 400 County Road H Elkhorn\, WI 53121
UID:e.2059.9717
SEQUENCE:3
DTSTAMP:20260421T134613Z
URL:https://business.elkhornchamber.com/events/details/celebrate-earth-day-gateway-technical-college-9717
END:VEVENT

END:VCALENDAR
