BEGIN:VCALENDAR
VERSION:2.0
PRODID:-//ChamberMaster//Event Calendar 2.0//EN
METHOD:PUBLISH
X-PUBLISHED-TTL:P3D
REFRESH-INTERVAL:P3D
CALSCALE:GREGORIAN
BEGIN:VEVENT
DTSTART:20170422T150000Z
DTEND:20170422T190000Z
X-MICROSOFT-CDO-ALLDAYEVENT:FALSE
SUMMARY:Celebrate Earth Day
DESCRIPTION:A Community celebration of our Planet!  Free admission and special gifts for each family attending.\n\n	Children's Activities\n	Petting Zoo\n	Plant Sale\n	Recycling Center\n	Workshops\n	Refreshments\n	Earth Friendly Crafts\n	Kohl's Wild Theater\n\nFor All Event Details travel to :\n\nwww.gtc.edu/EarthDay
X-ALT-DESC;FMTTYPE=text/html:A Community celebration of our Planet!&nbsp\; Free admission and special gifts for each family attending.\n<ul>\n	<li>Children&#39\;s Activities</li>\n	<li>Petting Zoo</li>\n	<li>Plant Sale</li>\n	<li>Recycling Center</li>\n	<li>Workshops</li>\n	<li>Refreshments</li>\n	<li>Earth Friendly Crafts</li>\n	<li>Kohl&#39\;s Wild Theater</li>\n</ul>\nFor All Event Details travel to :<br />\nwww.gtc.edu/EarthDay<br />\n&nbsp\;
LOCATION:Gateway Technical College Elkhorn Campus Corner of Hwy H & East Centralia
UID:e.2059.5038
SEQUENCE:3
DTSTAMP:20260423T074436Z
URL:https://business.elkhornchamber.com/events/details/celebrate-earth-day-5038
END:VEVENT

END:VCALENDAR
