BEGIN:VCALENDAR
VERSION:2.0
PRODID:-//ChamberMaster//Event Calendar 2.0//EN
METHOD:PUBLISH
X-PUBLISHED-TTL:P3D
REFRESH-INTERVAL:P3D
CALSCALE:GREGORIAN
BEGIN:VEVENT
DTSTART:20150425T140000Z
DTEND:20150425T190000Z
X-MICROSOFT-CDO-ALLDAYEVENT:FALSE
SUMMARY:Celebrate Earth Day
DESCRIPTION:Celebrate Earth Day is a community wide celebration designed to share information and encourage participation in activities that help us live our lives in a more environmentally friendly way. The event will be held at Gateway Technical College\, Elkhorn Campus-400 Cty H in Elkhorn
X-ALT-DESC;FMTTYPE=text/html:Celebrate Earth Day is a community wide celebration designed to share information and encourage participation in activities that help us live our lives in a more environmentally friendly way. The event will be held at Gateway Technical College\, Elkhorn Campus-400 Cty H in Elkhorn
LOCATION:Gateway Technical College - Elkhorn Campus 400 County Rd. H
UID:e.2059.934
SEQUENCE:3
DTSTAMP:20260424T224627Z
URL:https://business.elkhornchamber.com/events/details/celebrate-earth-day-04-25-2015-934
END:VEVENT

END:VCALENDAR
