BEGIN:VCALENDAR
VERSION:2.0
PRODID:-//ChamberMaster//Event Calendar 2.0//EN
METHOD:PUBLISH
X-PUBLISHED-TTL:P3D
REFRESH-INTERVAL:P3D
CALSCALE:GREGORIAN
BEGIN:VEVENT
DTSTART:20160718T220000Z
DTEND:20160723T000000Z
X-MICROSOFT-CDO-ALLDAYEVENT:FALSE
SUMMARY:Cave Quest-The Brightest Week of Summer
DESCRIPTION:Cave Quest - Following Jesus the Light of the World\n\nThe Brightest Week of the Summer!\n\nYou will have the opportunity of New Friends * Amazing experiments * Spelunker Sports * Lip-smacking snacks * Surprising adventures * Incredible music
X-ALT-DESC;FMTTYPE=text/html:Cave Quest - Following Jesus the Light of the World<br />\nThe Brightest Week of the Summer!<br />\nYou will have the opportunity of New Friends * Amazing experiments * Spelunker Sports * Lip-smacking snacks * Surprising adventures * Incredible music
LOCATION:Elkhorn First United Methodist Church 111 N. Broad St Elkhorn\, Wi 53121
UID:e.2059.3474
SEQUENCE:3
DTSTAMP:20260423T221146Z
URL:https://business.elkhornchamber.com/events/details/cave-quest-the-brightest-week-of-summer-07-18-2016-3474
END:VEVENT

END:VCALENDAR
