BEGIN:VCALENDAR
VERSION:2.0
PRODID:-//ChamberMaster//Event Calendar 2.0//EN
METHOD:PUBLISH
X-PUBLISHED-TTL:P3D
REFRESH-INTERVAL:P3D
CALSCALE:GREGORIAN
BEGIN:VEVENT
DTSTART:20180630T140000Z
DTEND:20180630T170000Z
X-MICROSOFT-CDO-ALLDAYEVENT:FALSE
SUMMARY:Cars and Coffee Presented by Grundy
DESCRIPTION:Cruise in to Gateway Classic Cars every last Saturday of the month for Cars & Coffee: Presented by Grundy Insurance! So far we have had some amazing turnouts\, but we want to continue to grow! Enjoy delicious donuts\, coffee and all of our sweet rides! No Admission fee and everyone is welcome! No cruiser? No sweat bring the daily driver. Hope to see you there. 250+ classic & exotics May 26 2018 June 30 2018 July 28 2018 August 25 2018 September 29 2018 October 27 2018 November 24 2018 December 29 2018 EVERY LAST SATURDAY OF THE MONTH 9 AM - 12 PM NOW ACCEPTING VENDORS!
X-ALT-DESC;FMTTYPE=text/html:Cruise in to Gateway Classic Cars every last Saturday of the month for Cars &amp\; Coffee: Presented by Grundy Insurance! So far we have had some amazing turnouts\, but we want to continue to grow! Enjoy delicious donuts\, coffee and all of our sweet rides! No Admission fee and everyone is welcome! No cruiser? No sweat bring the daily driver. Hope to see you there. 250+ classic &amp\; exotics May 26 2018 June 30 2018 July 28 2018 August 25 2018 September 29 2018 October 27 2018 November 24 2018 December 29 2018 EVERY LAST SATURDAY OF THE MONTH 9 AM - 12 PM NOW ACCEPTING VENDORS!
LOCATION:9949 58th Place Suite 400 Kenosha Wi 53144
UID:e.2059.9068
SEQUENCE:3
DTSTAMP:20260422T074028Z
URL:https://business.elkhornchamber.com/events/details/cars-and-coffee-presented-by-grundy-9068
END:VEVENT

END:VCALENDAR
