BEGIN:VCALENDAR
VERSION:2.0
PRODID:-//ChamberMaster//Event Calendar 2.0//EN
METHOD:PUBLISH
X-PUBLISHED-TTL:P3D
REFRESH-INTERVAL:P3D
CALSCALE:GREGORIAN
BEGIN:VEVENT
DTSTART:20180127T150000Z
DTEND:20180127T180000Z
X-MICROSOFT-CDO-ALLDAYEVENT:FALSE
SUMMARY:Cars and Coffee
DESCRIPTION:So far we have had some Great turnouts\, but we want to keep on growing! Hang out with Gateway Classic Cars on the last Saturday of every month for Cars & Coffee! Enjoy delicious donuts\, coffee\, & all or our newest arrivals! No Admission fee and kid friendly. All makes and models are welcome to cruise in and if you dont have a cruiser we still want you and your family to come. 250+ classics & exotics!
X-ALT-DESC;FMTTYPE=text/html:So far we have had some Great turnouts\, but we want to keep on growing! Hang out with Gateway Classic Cars on the last Saturday of every month for Cars &amp\; Coffee! Enjoy delicious donuts\, coffee\, &amp\; all or our newest arrivals! No Admission fee and kid friendly. All makes and models are welcome to cruise in and if you dont have a cruiser we still want you and your family to come. 250+ classics &amp\; exotics!
LOCATION:Gateway Classic Cars of Milwaukee 9949 58th Place SUITE 400 Kenosha\, WI 53144 262-891-4253
UID:e.2059.7487
SEQUENCE:3
DTSTAMP:20260422T150334Z
URL:https://business.elkhornchamber.com/events/details/cars-and-coffee-7487
END:VEVENT

END:VCALENDAR
