BEGIN:VCALENDAR
VERSION:2.0
PRODID:-//ChamberMaster//Event Calendar 2.0//EN
METHOD:PUBLISH
X-PUBLISHED-TTL:P3D
REFRESH-INTERVAL:P3D
CALSCALE:GREGORIAN
BEGIN:VEVENT
DTSTART:20150517T130000Z
DTEND:20150517T200000Z
X-MICROSOFT-CDO-ALLDAYEVENT:FALSE
SUMMARY:Cancer Assault Challenge
DESCRIPTION:The CAC isn't defined by any one thing. We're not just about fitness\, or motivation\, or making anyone "better." CAC is 100% attitude. Our event is designed to get YOU OFF the couch\, out of the house and having fun together. In groups. In costumes. In mud. We don't require training or any particular level of athleticism. Instead\, we encourage you to "come as you are". Hey\, it's all for a good cause: proceeds benefit the American Cancer Society Relay For Life 2015.
X-ALT-DESC;FMTTYPE=text/html:The CAC isn&#39\;t defined by any one thing. We&#39\;re not just about fitness\, or motivation\, or making anyone &quot\;better.&quot\; CAC is 100% attitude. Our event is designed to get YOU OFF the couch\, out of the house and having fun together. In groups. In costumes. In mud. We don&#39\;t require training or any particular level of athleticism. Instead\, we encourage you to &quot\;come as you are&quot\;. Hey\, it&#39\;s all for a good cause: proceeds benefit the American Cancer Society Relay For Life 2015.
LOCATION:Lutherdale Camp N7891 Hwy 12\, Elkhorn
UID:e.2059.755
SEQUENCE:3
DTSTAMP:20260424T211039Z
URL:https://business.elkhornchamber.com/events/details/cancer-assault-challenge-05-17-2015-755
END:VEVENT

END:VCALENDAR
