BEGIN:VCALENDAR
VERSION:2.0
PRODID:-//ChamberMaster//Event Calendar 2.0//EN
METHOD:PUBLISH
X-PUBLISHED-TTL:P3D
REFRESH-INTERVAL:P3D
CALSCALE:GREGORIAN
BEGIN:VEVENT
DTSTART:20160515T130000Z
DTEND:20160515T200000Z
X-MICROSOFT-CDO-ALLDAYEVENT:FALSE
SUMMARY:Cancer Assault Challenge
DESCRIPTION:5k Obstacle course run benefiting the MACC Fund (Midwest Athletes Against Childhood Cancer)
X-ALT-DESC;FMTTYPE=text/html:5k Obstacle course run benefiting the MACC Fund (Midwest Athletes Against Childhood Cancer)
LOCATION:Lutherdale N7891 US Hwy 12
UID:e.2059.2924
SEQUENCE:3
DTSTAMP:20260424T011723Z
URL:https://business.elkhornchamber.com/events/details/cancer-assault-challenge-05-15-2016-2924
END:VEVENT

END:VCALENDAR
