BEGIN:VCALENDAR
VERSION:2.0
PRODID:-//ChamberMaster//Event Calendar 2.0//EN
METHOD:PUBLISH
X-PUBLISHED-TTL:P3D
REFRESH-INTERVAL:P3D
CALSCALE:GREGORIAN
BEGIN:VEVENT
DTSTART;VALUE=DATE:20170612
DTEND;VALUE=DATE:20170616
TRANSP:TRANSPARENT
X-MICROSOFT-CDO-ALLDAYEVENT:TRUE
SUMMARY:Camp Out Getting S'More of Jesus VBS 2017
DESCRIPTION:Millard Community Covenant Church hosts their Camp Out~Getting S'More of Jesus. Open to ages 2-8th Grade.\n\nContact 262-742-3457 for more information.
X-ALT-DESC;FMTTYPE=text/html:Millard Community Covenant Church hosts their Camp Out~Getting S&#39\;More of Jesus. Open to ages 2-8th Grade.<br />\nContact 262-742-3457 for more information.
LOCATION:N6713 County Road O Elkhorn\, WI 53121
UID:e.2059.5052
SEQUENCE:3
DTSTAMP:20260423T060151Z
URL:https://business.elkhornchamber.com/events/details/camp-out-getting-s-more-of-jesus-vbs-2017-5052
END:VEVENT

END:VCALENDAR
