BEGIN:VCALENDAR
VERSION:2.0
PRODID:-//ChamberMaster//Event Calendar 2.0//EN
METHOD:PUBLISH
X-PUBLISHED-TTL:P3D
REFRESH-INTERVAL:P3D
CALSCALE:GREGORIAN
BEGIN:VEVENT
DTSTART:20160501T131500Z
DTEND:20160501T163000Z
X-MICROSOFT-CDO-ALLDAYEVENT:FALSE
SUMMARY:Bustle Hustle 5K Run/Walk
DESCRIPTION:Runners and walkers can race or walk through natural and historic landscapes\, chip timing for runners\, prizes for top finishers in each age group and ribbons for all who run/walk in historical costume.    Check-in for preregistered runners/walkers and day of registration begins at 8:15 am.  5K Run/Walk begins at 9:45 am.  Separate 1K loop for kids at 10:45 am.  Spectators welcome at the start/finish line.  Registered runners will recieve a t-shirt\, one museum admission pass and healthy snack.  In 2016\, Old World Wisconsin will not be open the day of the run\; season opening will be on May 7.  Proceeds from this year's Bustle Hustle will support educational programs at Old World Wisconsin.
X-ALT-DESC;FMTTYPE=text/html:Runners and walkers can race or walk through natural and historic landscapes\, chip timing for runners\, prizes for top finishers in each age group and ribbons for all who run/walk in historical costume.&nbsp\;&nbsp\;&nbsp\; Check-in for preregistered runners/walkers and day of registration begins at 8:15 am.&nbsp\; 5K Run/Walk begins at 9:45 am.&nbsp\; Separate 1K loop for kids at 10:45 am.&nbsp\; Spectators welcome at the start/finish line.&nbsp\; Registered runners will recieve a t-shirt\, one museum admission pass and healthy snack.&nbsp\; In 2016\, Old World Wisconsin will not be open the day of the run\; season opening will be on May 7.&nbsp\; Proceeds from this year&#39\;s Bustle Hustle will support educational programs at Old World Wisconsin.
LOCATION:Old World Wisconsin\, W372 S9727 Hwy. 67\, Eagle\, WI 53119
UID:e.2059.1941
SEQUENCE:3
DTSTAMP:20260424T030304Z
URL:https://business.elkhornchamber.com/events/details/bustle-hustle-5k-run-walk-05-01-2016-1941
END:VEVENT

END:VCALENDAR
