BEGIN:VCALENDAR
VERSION:2.0
PRODID:-//ChamberMaster//Event Calendar 2.0//EN
METHOD:PUBLISH
X-PUBLISHED-TTL:P3D
REFRESH-INTERVAL:P3D
CALSCALE:GREGORIAN
BEGIN:VEVENT
DTSTART:20151001T140000Z
DTEND:20151001T170000Z
X-MICROSOFT-CDO-ALLDAYEVENT:FALSE
SUMMARY:Business Summit
DESCRIPTION:The Department of Workforce Development and Division of Vocational Rehabilitation invite you to join us for our National Disability Employment Awareness Month Business Summit. Held each October\, NDEAM is a national campaign that celebrates the many and varied contributions of America's workers with disabilities. RSVP to Yvette Moeller-Bunker by September 17\, 2015 262.822.7457 or Yvette.moeller@dwd.wisconsin.gov
X-ALT-DESC;FMTTYPE=text/html:The Department of Workforce Development and Division of Vocational Rehabilitation invite you to join us for our National Disability Employment Awareness Month Business Summit. Held each October\, NDEAM is a national campaign that celebrates the many and varied contributions of America&#39\;s workers with disabilities. RSVP to Yvette Moeller-Bunker by September 17\, 2015 262.822.7457 or Yvette.moeller@dwd.wisconsin.gov
LOCATION:Veteran's Terrace 589 Milwaukee Avenue Burlington\, Wi 53105
UID:e.2059.1710
SEQUENCE:3
DTSTAMP:20260424T123854Z
URL:https://business.elkhornchamber.com/events/details/business-summit-10-01-2015-1710
END:VEVENT

END:VCALENDAR
